BEGIN:VCALENDAR
VERSION:2.0
PRODID:spatie/icalendar-generator
DESCRIPTION:Events from A Better Pet
X-WR-CALDESC:Events from A Better Pet
REFRESH-INTERVAL;VALUE=DURATION:PT1440M
X-PUBLISHED-TTL:PT1440M
BEGIN:VTIMEZONE
TZID:America/New_York
BEGIN:DAYLIGHT
DTSTART:20220313T020000Z
TZOFFSETFROM:-0500
TZOFFSETTO:-0400
END:DAYLIGHT
BEGIN:STANDARD
DTSTART:20221106T020000Z
TZOFFSETFROM:-0400
TZOFFSETTO:-0500
END:STANDARD
BEGIN:DAYLIGHT
DTSTART:20230312T020000Z
TZOFFSETFROM:-0500
TZOFFSETTO:-0400
END:DAYLIGHT
END:VTIMEZONE
BEGIN:VTIMEZONE
TZID:UTC
BEGIN:STANDARD
DTSTART:20250728T095248Z
TZOFFSETFROM:+0000
TZOFFSETTO:+0000
END:STANDARD
END:VTIMEZONE
BEGIN:VEVENT
UID:855-819
DTSTAMP:20260424T095248Z
SUMMARY:Shamrock Turns FOUR!!!!!
LOCATION:
ORGANIZER;CN=Rachel Friedman:MAILTO:Rachel@abetterpet.com
DTSTART;TZID=America/New_York;VALUE=DATE:20221018
DTEND;TZID=America/New_York;VALUE=DATE:20221019
X-ALT-DESC;FMTTYPE=TEXT/HTML:[caption id=\"attachment_19588\" align=\"align
 left\" width=\"300\"] First Time Outisde for Puppies[/caption] Shamrock tu
 rns 4! His first birthday without his incredible first teacher\, momma Fra
 nny. A bittersweet celebration will happen for this magnificent dog. I lov
 e him to Neptune and back.
CATEGORIES:Events
URL;VALUE=URI:https://abetterpet.com/mc-events/shamrock-turns-four/
METHOD:PUBLISH
END:VEVENT
END:VCALENDAR