BEGIN:VCALENDAR
VERSION:2.0
PRODID:spatie/icalendar-generator
DESCRIPTION:Events from A Better Pet
X-WR-CALDESC:Events from A Better Pet
REFRESH-INTERVAL;VALUE=DURATION:PT1440M
X-PUBLISHED-TTL:PT1440M
BEGIN:VTIMEZONE
TZID:America/New_York
BEGIN:DAYLIGHT
DTSTART:20220313T020000Z
TZOFFSETFROM:-0500
TZOFFSETTO:-0400
END:DAYLIGHT
BEGIN:STANDARD
DTSTART:20221106T020000Z
TZOFFSETFROM:-0400
TZOFFSETTO:-0500
END:STANDARD
END:VTIMEZONE
BEGIN:VTIMEZONE
TZID:UTC
BEGIN:STANDARD
DTSTART:20250728T155916Z
TZOFFSETFROM:+0000
TZOFFSETTO:+0000
END:STANDARD
END:VTIMEZONE
BEGIN:VEVENT
UID:802-770
DTSTAMP:20260424T155916Z
SUMMARY:Walter the BC Board and Train
LOCATION:
ORGANIZER;CN=Rachel Friedman:MAILTO:Rachel@abetterpet.com
DTSTART;TZID=America/New_York;VALUE=DATE:20220809
DTEND;TZID=America/New_York;VALUE=DATE:20220818
X-ALT-DESC;FMTTYPE=TEXT/HTML:In which  puppy Walter\, a border collie pupp
 y\, comes for a week and a day long camp experience to practice manners\, 
 play\, develop structure and learn how to eat out of frozen kongs. 
CATEGORIES:Board &amp; Train
URL;VALUE=URI:https://abetterpet.com/mc-events/walter-the-bc-board-and-trai
 n/
METHOD:PUBLISH
END:VEVENT
END:VCALENDAR