BEGIN:VCALENDAR
VERSION:2.0
PRODID:spatie/icalendar-generator
DESCRIPTION:Events from A Better Pet
X-WR-CALDESC:Events from A Better Pet
REFRESH-INTERVAL;VALUE=DURATION:PT1440M
X-PUBLISHED-TTL:PT1440M
BEGIN:VTIMEZONE
TZID:America/New_York
BEGIN:STANDARD
DTSTART:20211107T020000Z
TZOFFSETFROM:-0400
TZOFFSETTO:-0500
END:STANDARD
BEGIN:DAYLIGHT
DTSTART:20220313T020000Z
TZOFFSETFROM:-0500
TZOFFSETTO:-0400
END:DAYLIGHT
BEGIN:STANDARD
DTSTART:20221106T020000Z
TZOFFSETFROM:-0400
TZOFFSETTO:-0500
END:STANDARD
END:VTIMEZONE
BEGIN:VTIMEZONE
TZID:UTC
BEGIN:STANDARD
DTSTART:20250729T031554Z
TZOFFSETFROM:+0000
TZOFFSETTO:+0000
END:STANDARD
END:VTIMEZONE
BEGIN:VEVENT
UID:762-735
DTSTAMP:20260425T031554Z
SUMMARY:Franny's Memorial Euclid Creek Hike \"DIP\"
LOCATION:
ORGANIZER;CN=Rachel Friedman:MAILTO:Rachel@abetterpet.com
DTSTART;TZID=America/New_York:20220629T153000
DTEND;TZID=America/New_York:20220629T170000
X-ALT-DESC;FMTTYPE=TEXT/HTML:[caption id=\"attachment_9198\" align=\"alignl
 eft\" width=\"300\"] Franny &amp;amp\; The Triplets Xmas 2018 - Shamrock\, Mab
 el and Pixie[/caption] This is an off site special edition DIP and limited
  to people who are comfortable to hike in water (water shoes recommended)\
 , let their dogs frolic off leash and of course\, available to attend. Fra
 nny spent her 7th and final&amp;hellip\;
CATEGORIES:DIP (Drop-In Play)
URL;VALUE=URI:https://abetterpet.com/mc-events/frannys-memorial-euclid-cree
 k-hike-dip/
METHOD:PUBLISH
END:VEVENT
END:VCALENDAR