BEGIN:VCALENDAR
VERSION:2.0
PRODID:spatie/icalendar-generator
DESCRIPTION:Events from A Better Pet
X-WR-CALDESC:Events from A Better Pet
REFRESH-INTERVAL;VALUE=DURATION:PT1440M
X-PUBLISHED-TTL:PT1440M
BEGIN:VTIMEZONE
TZID:America/New_York
BEGIN:STANDARD
DTSTART:20211107T020000Z
TZOFFSETFROM:-0400
TZOFFSETTO:-0500
END:STANDARD
BEGIN:DAYLIGHT
DTSTART:20220313T020000Z
TZOFFSETFROM:-0500
TZOFFSETTO:-0400
END:DAYLIGHT
BEGIN:STANDARD
DTSTART:20221106T020000Z
TZOFFSETFROM:-0400
TZOFFSETTO:-0500
END:STANDARD
END:VTIMEZONE
BEGIN:VTIMEZONE
TZID:UTC
BEGIN:STANDARD
DTSTART:20250729T023924Z
TZOFFSETFROM:+0000
TZOFFSETTO:+0000
END:STANDARD
END:VTIMEZONE
BEGIN:VEVENT
UID:719-696
DTSTAMP:20260425T023924Z
SUMMARY:Twilight DIP
LOCATION:
ORGANIZER;CN=Rachel Friedman:MAILTO:Rachel@abetterpet.com
DTSTART;TZID=America/New_York:20220517T190000
DTEND;TZID=America/New_York:20220517T200000
X-ALT-DESC;FMTTYPE=TEXT/HTML:It's a thing. It's light out later! So apres d
 inner (or bring it with you)\, come to a twilight Tuesday DIP. RSVP if com
 ing.
CATEGORIES:DIP (Drop-In Play)
URL;VALUE=URI:https://abetterpet.com/mc-events/twilight-dip/
METHOD:PUBLISH
END:VEVENT
END:VCALENDAR