BEGIN:VCALENDAR
VERSION:2.0
PRODID:spatie/icalendar-generator
DESCRIPTION:Events from A Better Pet
X-WR-CALDESC:Events from A Better Pet
REFRESH-INTERVAL;VALUE=DURATION:PT1440M
X-PUBLISHED-TTL:PT1440M
BEGIN:VTIMEZONE
TZID:America/New_York
BEGIN:DAYLIGHT
DTSTART:20210314T020000Z
TZOFFSETFROM:-0500
TZOFFSETTO:-0400
END:DAYLIGHT
BEGIN:STANDARD
DTSTART:20211107T020000Z
TZOFFSETFROM:-0400
TZOFFSETTO:-0500
END:STANDARD
BEGIN:DAYLIGHT
DTSTART:20220313T020000Z
TZOFFSETFROM:-0500
TZOFFSETTO:-0400
END:DAYLIGHT
END:VTIMEZONE
BEGIN:VTIMEZONE
TZID:UTC
BEGIN:STANDARD
DTSTART:20250729T110054Z
TZOFFSETFROM:+0000
TZOFFSETTO:+0000
END:STANDARD
END:VTIMEZONE
BEGIN:VEVENT
UID:656-636
DTSTAMP:20260425T110054Z
SUMMARY:Erin and Kiwi Training
LOCATION:
ORGANIZER;CN=Rachel Friedman:MAILTO:Rachel@abetterpet.com
DTSTART;TZID=America/New_York:20210923T120000
DTEND;TZID=America/New_York:20210923T143000
X-ALT-DESC;FMTTYPE=TEXT/HTML:Socializing Kiwi to barn\, horses\, barn cats\
 , more horses\, and the intoxicating smells and sights of a horse farm whe
 re he'll be learning to spend more and more time with his partner Erin.
CATEGORIES:Private Training
URL;VALUE=URI:https://abetterpet.com/mc-events/erin-and-kiwi-training-2/
METHOD:PUBLISH
END:VEVENT
END:VCALENDAR