BEGIN:VCALENDAR
VERSION:2.0
PRODID:spatie/icalendar-generator
DESCRIPTION:Events from A Better Pet
X-WR-CALDESC:Events from A Better Pet
REFRESH-INTERVAL;VALUE=DURATION:PT1440M
X-PUBLISHED-TTL:PT1440M
BEGIN:VTIMEZONE
TZID:America/New_York
BEGIN:DAYLIGHT
DTSTART:20210314T020000Z
TZOFFSETFROM:-0500
TZOFFSETTO:-0400
END:DAYLIGHT
BEGIN:STANDARD
DTSTART:20211107T020000Z
TZOFFSETFROM:-0400
TZOFFSETTO:-0500
END:STANDARD
END:VTIMEZONE
BEGIN:VTIMEZONE
TZID:UTC
BEGIN:STANDARD
DTSTART:20250729T123952Z
TZOFFSETFROM:+0000
TZOFFSETTO:+0000
END:STANDARD
END:VTIMEZONE
BEGIN:VEVENT
UID:631-611
DTSTAMP:20260425T123952Z
SUMMARY:Erin and Kiwi Training
LOCATION:
ORGANIZER;CN=Rachel Friedman:MAILTO:Rachel@abetterpet.com
DTSTART;TZID=America/New_York;VALUE=DATE:20210828
DTEND;TZID=America/New_York;VALUE=DATE:20210829
X-ALT-DESC;FMTTYPE=TEXT/HTML:[caption id=\"attachment_16558\" align=\"align
 left\" width=\"170\"] First meeting - Erin and Kiwi[/caption] In which we
   introduce the foundation upon which all training for service dog functi
 on at home and in public will be laid for this most recent service dog tra
 ining team.
CATEGORIES:DIP (Drop-In Play)
URL;VALUE=URI:https://abetterpet.com/mc-events/erin-and-kiwi-training/
METHOD:PUBLISH
END:VEVENT
END:VCALENDAR