BEGIN:VCALENDAR
VERSION:2.0
PRODID:spatie/icalendar-generator
DESCRIPTION:Events from A Better Pet
X-WR-CALDESC:Events from A Better Pet
REFRESH-INTERVAL;VALUE=DURATION:PT1440M
X-PUBLISHED-TTL:PT1440M
BEGIN:VTIMEZONE
TZID:America/New_York
BEGIN:STANDARD
DTSTART:20201101T020000Z
TZOFFSETFROM:-0400
TZOFFSETTO:-0500
END:STANDARD
BEGIN:DAYLIGHT
DTSTART:20210314T020000Z
TZOFFSETFROM:-0500
TZOFFSETTO:-0400
END:DAYLIGHT
BEGIN:STANDARD
DTSTART:20211107T020000Z
TZOFFSETFROM:-0400
TZOFFSETTO:-0500
END:STANDARD
END:VTIMEZONE
BEGIN:VTIMEZONE
TZID:UTC
BEGIN:STANDARD
DTSTART:20250729T153748Z
TZOFFSETFROM:+0000
TZOFFSETTO:+0000
END:STANDARD
END:VTIMEZONE
BEGIN:VEVENT
UID:600-584
DTSTAMP:20260425T153748Z
SUMMARY:A Better Pet On Holiday
LOCATION:
ORGANIZER;CN=Rachel Friedman:MAILTO:Rachel@abetterpet.com
DTSTART;TZID=America/New_York;VALUE=DATE:20210728
DTEND;TZID=America/New_York;VALUE=DATE:20210813
X-ALT-DESC;FMTTYPE=TEXT/HTML:First vacation since mid 2019. Will miss the d
 ogs and the DIPs but will be back soon! In the meantime\, get out there wi
 th your puppies and help them have some fun in between all the lessons.
CATEGORIES:Events
URL;VALUE=URI:https://abetterpet.com/mc-events/a-better-pet-on-holiday/
METHOD:PUBLISH
END:VEVENT
END:VCALENDAR