BEGIN:VCALENDAR
VERSION:2.0
PRODID:spatie/icalendar-generator
DESCRIPTION:Events from A Better Pet
X-WR-CALDESC:Events from A Better Pet
REFRESH-INTERVAL;VALUE=DURATION:PT1440M
X-PUBLISHED-TTL:PT1440M
BEGIN:VTIMEZONE
TZID:America/New_York
BEGIN:STANDARD
DTSTART:20201101T020000Z
TZOFFSETFROM:-0400
TZOFFSETTO:-0500
END:STANDARD
BEGIN:DAYLIGHT
DTSTART:20210314T020000Z
TZOFFSETFROM:-0500
TZOFFSETTO:-0400
END:DAYLIGHT
BEGIN:STANDARD
DTSTART:20211107T020000Z
TZOFFSETFROM:-0400
TZOFFSETTO:-0500
END:STANDARD
END:VTIMEZONE
BEGIN:VTIMEZONE
TZID:UTC
BEGIN:STANDARD
DTSTART:20250729T221249Z
TZOFFSETFROM:+0000
TZOFFSETTO:+0000
END:STANDARD
END:VTIMEZONE
BEGIN:VEVENT
UID:587-571
DTSTAMP:20260425T221249Z
SUMMARY:Mae and Cali
LOCATION:
ORGANIZER;CN=Rachel Friedman:MAILTO:Rachel@abetterpet.com
DTSTART;TZID=America/New_York:20210701T100000
DTEND;TZID=America/New_York:20210701T110000
X-ALT-DESC;FMTTYPE=TEXT/HTML:Consult in which we discuss Cali's viability a
 s a functional mobility service dog and if A Better Pet's services might b
 e helpful in the process.
CATEGORIES:Private Training
URL;VALUE=URI:https://abetterpet.com/mc-events/mae-and-cali/
METHOD:PUBLISH
END:VEVENT
END:VCALENDAR