BEGIN:VCALENDAR
VERSION:2.0
PRODID:spatie/icalendar-generator
DESCRIPTION:Events from A Better Pet
X-WR-CALDESC:Events from A Better Pet
REFRESH-INTERVAL;VALUE=DURATION:PT1440M
X-PUBLISHED-TTL:PT1440M
BEGIN:VTIMEZONE
TZID:America/New_York
BEGIN:STANDARD
DTSTART:20201101T020000Z
TZOFFSETFROM:-0400
TZOFFSETTO:-0500
END:STANDARD
BEGIN:DAYLIGHT
DTSTART:20210314T020000Z
TZOFFSETFROM:-0500
TZOFFSETTO:-0400
END:DAYLIGHT
BEGIN:STANDARD
DTSTART:20211107T020000Z
TZOFFSETFROM:-0400
TZOFFSETTO:-0500
END:STANDARD
END:VTIMEZONE
BEGIN:VTIMEZONE
TZID:UTC
BEGIN:STANDARD
DTSTART:20250729T185829Z
TZOFFSETFROM:+0000
TZOFFSETTO:+0000
END:STANDARD
END:VTIMEZONE
BEGIN:VEVENT
UID:582-568
DTSTAMP:20260425T185829Z
SUMMARY:Sparky the Cavachon Pup Zoom Training
LOCATION:
ORGANIZER;CN=Rachel Friedman:MAILTO:Rachel@abetterpet.com
DTSTART;TZID=America/New_York:20210629T140000
DTEND;TZID=America/New_York:20210629T163000
X-ALT-DESC;FMTTYPE=TEXT/HTML:In which wee pup Sparky and his owner learn ho
 w to become a better pet and a better pet owner.
CATEGORIES:Private Training
URL;VALUE=URI:https://abetterpet.com/mc-events/sparky-the-cavachon-pup-zoom
 -training-2/
METHOD:PUBLISH
END:VEVENT
END:VCALENDAR