BEGIN:VCALENDAR
VERSION:2.0
PRODID:spatie/icalendar-generator
DESCRIPTION:Events from A Better Pet
X-WR-CALDESC:Events from A Better Pet
REFRESH-INTERVAL;VALUE=DURATION:PT1440M
X-PUBLISHED-TTL:PT1440M
BEGIN:VTIMEZONE
TZID:America/New_York
BEGIN:STANDARD
DTSTART:20201101T020000Z
TZOFFSETFROM:-0400
TZOFFSETTO:-0500
END:STANDARD
BEGIN:DAYLIGHT
DTSTART:20210314T020000Z
TZOFFSETFROM:-0500
TZOFFSETTO:-0400
END:DAYLIGHT
BEGIN:STANDARD
DTSTART:20211107T020000Z
TZOFFSETFROM:-0400
TZOFFSETTO:-0500
END:STANDARD
END:VTIMEZONE
BEGIN:VTIMEZONE
TZID:UTC
BEGIN:STANDARD
DTSTART:20250729T224058Z
TZOFFSETFROM:+0000
TZOFFSETTO:+0000
END:STANDARD
END:VTIMEZONE
BEGIN:VEVENT
UID:554-541
DTSTAMP:20260425T224058Z
SUMMARY:Cooper comes for an extended Visit
LOCATION:
ORGANIZER;CN=Rachel Friedman:MAILTO:Rachel@abetterpet.com
DTSTART;TZID=America/New_York;VALUE=DATE:20210630
DTEND;TZID=America/New_York;VALUE=DATE:20210707
X-ALT-DESC;FMTTYPE=TEXT/HTML:In which service dog in training Labrador Retr
 iever Cooper returns for some booster training and to help celebrate July 
 4th at Camp A Better Pet.
CATEGORIES:Private Training
URL;VALUE=URI:https://abetterpet.com/mc-events/cooper-comes-for-an-extended
 -visit/
METHOD:PUBLISH
END:VEVENT
END:VCALENDAR