BEGIN:VCALENDAR
VERSION:2.0
PRODID:spatie/icalendar-generator
DESCRIPTION:Events from A Better Pet
X-WR-CALDESC:Events from A Better Pet
REFRESH-INTERVAL;VALUE=DURATION:PT1440M
X-PUBLISHED-TTL:PT1440M
BEGIN:VTIMEZONE
TZID:America/New_York
BEGIN:STANDARD
DTSTART:20201101T020000Z
TZOFFSETFROM:-0400
TZOFFSETTO:-0500
END:STANDARD
BEGIN:DAYLIGHT
DTSTART:20210314T020000Z
TZOFFSETFROM:-0500
TZOFFSETTO:-0400
END:DAYLIGHT
BEGIN:STANDARD
DTSTART:20211107T020000Z
TZOFFSETFROM:-0400
TZOFFSETTO:-0500
END:STANDARD
END:VTIMEZONE
BEGIN:VTIMEZONE
TZID:UTC
BEGIN:STANDARD
DTSTART:20250730T014423Z
TZOFFSETFROM:+0000
TZOFFSETTO:+0000
END:STANDARD
END:VTIMEZONE
BEGIN:VEVENT
UID:541-528
DTSTAMP:20260426T014423Z
SUMMARY:Bo the Goldendoodle Board &amp;amp\; Train
LOCATION:
ORGANIZER;CN=Rachel Friedman:MAILTO:Rachel@abetterpet.com
DTSTART;TZID=America/New_York;VALUE=DATE:20210528
DTEND;TZID=America/New_York;VALUE=DATE:20210607
X-ALT-DESC;FMTTYPE=TEXT/HTML:In which teenage goldendoodle pup Bo comes for
  a 9 day board and train. He will learn proper manners and practice them a
 nd most importantly learn from some significant role models - Franny\, Sha
 mrock and Pinto and all the DIPping dogs --  in his transformation while 
 his owners are on a vacay.
CATEGORIES:Private Training
URL;VALUE=URI:https://abetterpet.com/mc-events/bo-the-goldendoodle-board-tr
 ain/
METHOD:PUBLISH
END:VEVENT
END:VCALENDAR