BEGIN:VCALENDAR
VERSION:2.0
PRODID:spatie/icalendar-generator
DESCRIPTION:Events from A Better Pet
X-WR-CALDESC:Events from A Better Pet
REFRESH-INTERVAL;VALUE=DURATION:PT1440M
X-PUBLISHED-TTL:PT1440M
BEGIN:VTIMEZONE
TZID:America/New_York
BEGIN:STANDARD
DTSTART:20201101T020000Z
TZOFFSETFROM:-0400
TZOFFSETTO:-0500
END:STANDARD
BEGIN:DAYLIGHT
DTSTART:20210314T020000Z
TZOFFSETFROM:-0500
TZOFFSETTO:-0400
END:DAYLIGHT
BEGIN:STANDARD
DTSTART:20211107T020000Z
TZOFFSETFROM:-0400
TZOFFSETTO:-0500
END:STANDARD
END:VTIMEZONE
BEGIN:VTIMEZONE
TZID:UTC
BEGIN:STANDARD
DTSTART:20250730T015841Z
TZOFFSETFROM:+0000
TZOFFSETTO:+0000
END:STANDARD
END:VTIMEZONE
BEGIN:VEVENT
UID:536-523
DTSTAMP:20260426T015841Z
SUMMARY:Paul and Cooper Public Access Outing
LOCATION:
ORGANIZER;CN=Rachel Friedman:MAILTO:Rachel@abetterpet.com
DTSTART;TZID=America/New_York:20210526T130000
DTEND;TZID=America/New_York:20210526T143000
X-ALT-DESC;FMTTYPE=TEXT/HTML:Rescheduled outing to Beachwood Place for Team
  Paul and Cooper. Practicing social manners in public access and introduci
 ng escalators.
CATEGORIES:Private Training
URL;VALUE=URI:https://abetterpet.com/mc-events/paul-and-cooper-public-acces
 s-outing-2/
METHOD:PUBLISH
END:VEVENT
END:VCALENDAR