BEGIN:VCALENDAR
VERSION:2.0
PRODID:spatie/icalendar-generator
DESCRIPTION:Events from A Better Pet
X-WR-CALDESC:Events from A Better Pet
REFRESH-INTERVAL;VALUE=DURATION:PT1440M
X-PUBLISHED-TTL:PT1440M
BEGIN:VTIMEZONE
TZID:America/New_York
BEGIN:DAYLIGHT
DTSTART:20240310T020000Z
TZOFFSETFROM:-0500
TZOFFSETTO:-0400
END:DAYLIGHT
BEGIN:STANDARD
DTSTART:20241103T020000Z
TZOFFSETFROM:-0400
TZOFFSETTO:-0500
END:STANDARD
BEGIN:DAYLIGHT
DTSTART:20250309T020000Z
TZOFFSETFROM:-0500
TZOFFSETTO:-0400
END:DAYLIGHT
END:VTIMEZONE
BEGIN:VTIMEZONE
TZID:UTC
BEGIN:STANDARD
DTSTART:20250729T200140Z
TZOFFSETFROM:+0000
TZOFFSETTO:+0000
END:STANDARD
END:VTIMEZONE
BEGIN:VEVENT
UID:1362-1279
DTSTAMP:20260425T200140Z
SUMMARY:Doggie DIP at Thornton 10am-1pm
LOCATION:
ORGANIZER;CN=Rachel Friedman:MAILTO:Rachel@abetterpet.com
DTSTART;TZID=America/New_York:20240907T100000
DTEND;TZID=America/New_York:20240907T130000
X-ALT-DESC;FMTTYPE=TEXT/HTML:Saturday\, September 7th | 10:00am - 1:00pm Th
 ornton Park PoolOur annual Doggie Dip is Saturday\, September 7th from 10 
 am - 1 pm! Well behaved dogs are welcome to join us to swim in the unheate
 d and unchlorinated water and enjoy the company of their canine friends. A
  lifeguard will be on duty\, local pet&amp;hellip\;
CATEGORIES:DIP (Drop-In Play)
URL;VALUE=URI:https://abetterpet.com/mc-events/doggie-dip-at-thornton-10am-
 1pm/
METHOD:PUBLISH
END:VEVENT
END:VCALENDAR