BEGIN:VCALENDAR
VERSION:2.0
PRODID:spatie/icalendar-generator
DESCRIPTION:Events from A Better Pet
X-WR-CALDESC:Events from A Better Pet
REFRESH-INTERVAL;VALUE=DURATION:PT1440M
X-PUBLISHED-TTL:PT1440M
BEGIN:VTIMEZONE
TZID:America/New_York
BEGIN:DAYLIGHT
DTSTART:20240310T020000Z
TZOFFSETFROM:-0500
TZOFFSETTO:-0400
END:DAYLIGHT
BEGIN:STANDARD
DTSTART:20241103T020000Z
TZOFFSETFROM:-0400
TZOFFSETTO:-0500
END:STANDARD
END:VTIMEZONE
BEGIN:VTIMEZONE
TZID:UTC
BEGIN:STANDARD
DTSTART:20250727T193543Z
TZOFFSETFROM:+0000
TZOFFSETTO:+0000
END:STANDARD
END:VTIMEZONE
BEGIN:VEVENT
UID:1306-1213
DTSTAMP:20260423T193543Z
SUMMARY:Online Service Dog Course: Part II\, Week 7 - Access Manners
LOCATION:
ORGANIZER;CN=Rachel Friedman:MAILTO:Rachel@abetterpet.com
DTSTART;TZID=America/New_York:20240807T183000
DTEND;TZID=America/New_York:20240807T201500
X-ALT-DESC;FMTTYPE=TEXT/HTML:
CATEGORIES:Events
URL;VALUE=URI:https://abetterpet.com/mc-events/online-service-dog-course-pa
 rt-ii-week-7-access-manners/
METHOD:PUBLISH
END:VEVENT
END:VCALENDAR