BEGIN:VCALENDAR
VERSION:2.0
PRODID:spatie/icalendar-generator
DESCRIPTION:Events from A Better Pet
X-WR-CALDESC:Events from A Better Pet
REFRESH-INTERVAL;VALUE=DURATION:PT1440M
X-PUBLISHED-TTL:PT1440M
BEGIN:VTIMEZONE
TZID:America/New_York
BEGIN:STANDARD
DTSTART:20231105T020000Z
TZOFFSETFROM:-0400
TZOFFSETTO:-0500
END:STANDARD
BEGIN:DAYLIGHT
DTSTART:20240310T020000Z
TZOFFSETFROM:-0500
TZOFFSETTO:-0400
END:DAYLIGHT
END:VTIMEZONE
BEGIN:VTIMEZONE
TZID:UTC
BEGIN:STANDARD
DTSTART:20250727T134014Z
TZOFFSETFROM:+0000
TZOFFSETTO:+0000
END:STANDARD
END:VTIMEZONE
BEGIN:VEVENT
UID:1219-1149
DTSTAMP:20260423T134014Z
SUMMARY:Poppy Board and Train
LOCATION:
ORGANIZER;CN=Rachel Friedman:MAILTO:Rachel@abetterpet.com
DTSTART;TZID=America/New_York;VALUE=DATE:20240226
DTEND;TZID=America/New_York;VALUE=DATE:20240306
X-ALT-DESC;FMTTYPE=TEXT/HTML:SDIT Poppy comes for a week long visit to hone
  her skills\, spend time with family and afford her partner a vacation get
 away.
CATEGORIES:Board &amp; Train
URL;VALUE=URI:https://abetterpet.com/mc-events/poppy-board-and-train/
METHOD:PUBLISH
END:VEVENT
END:VCALENDAR