BEGIN:VCALENDAR
VERSION:2.0
PRODID:spatie/icalendar-generator
DESCRIPTION:Events from A Better Pet
X-WR-CALDESC:Events from A Better Pet
REFRESH-INTERVAL;VALUE=DURATION:PT1440M
X-PUBLISHED-TTL:PT1440M
BEGIN:VTIMEZONE
TZID:America/New_York
BEGIN:STANDARD
DTSTART:20231105T020000Z
TZOFFSETFROM:-0400
TZOFFSETTO:-0500
END:STANDARD
BEGIN:DAYLIGHT
DTSTART:20240310T020000Z
TZOFFSETFROM:-0500
TZOFFSETTO:-0400
END:DAYLIGHT
END:VTIMEZONE
BEGIN:VTIMEZONE
TZID:UTC
BEGIN:STANDARD
DTSTART:20250727T110713Z
TZOFFSETFROM:+0000
TZOFFSETTO:+0000
END:STANDARD
END:VTIMEZONE
BEGIN:VEVENT
UID:1196-1134
DTSTAMP:20260423T110713Z
SUMMARY:Online Service Dog Course Live Event Part 1 - Lesson 3
LOCATION:
ORGANIZER;CN=Rachel Friedman:MAILTO:Rachel@abetterpet.com
DTSTART;TZID=America/New_York:20240131T183000
DTEND;TZID=America/New_York:20240131T201500
X-ALT-DESC;FMTTYPE=TEXT/HTML:Part 1\, Lesson 3 Live Lecture.
CATEGORIES:Events
URL;VALUE=URI:https://abetterpet.com/mc-events/online-service-dog-course-li
 ve-event-part-1-lesson-3/
METHOD:PUBLISH
END:VEVENT
END:VCALENDAR