BEGIN:VCALENDAR
VERSION:2.0
PRODID:spatie/icalendar-generator
DESCRIPTION:Events from A Better Pet
X-WR-CALDESC:Events from A Better Pet
REFRESH-INTERVAL;VALUE=DURATION:PT1440M
X-PUBLISHED-TTL:PT1440M
BEGIN:VTIMEZONE
TZID:America/New_York
BEGIN:DAYLIGHT
DTSTART:20230312T020000Z
TZOFFSETFROM:-0500
TZOFFSETTO:-0400
END:DAYLIGHT
BEGIN:STANDARD
DTSTART:20231105T020000Z
TZOFFSETFROM:-0400
TZOFFSETTO:-0500
END:STANDARD
BEGIN:DAYLIGHT
DTSTART:20240310T020000Z
TZOFFSETFROM:-0500
TZOFFSETTO:-0400
END:DAYLIGHT
END:VTIMEZONE
BEGIN:VTIMEZONE
TZID:UTC
BEGIN:STANDARD
DTSTART:20250727T160119Z
TZOFFSETFROM:+0000
TZOFFSETTO:+0000
END:STANDARD
END:VTIMEZONE
BEGIN:VEVENT
UID:1129-1076
DTSTAMP:20260423T160119Z
SUMMARY:Taro the P.R. Rescue Mix Zoom Training
LOCATION:
ORGANIZER;CN=Rachel Friedman:MAILTO:Rachel@abetterpet.com
DTSTART;TZID=America/New_York:20231007T130000
DTEND;TZID=America/New_York:20231007T153000
X-ALT-DESC;FMTTYPE=TEXT/HTML:In which rescued breed mix Taro\, originally f
 rom Puerto Rico\, and his people introducing The Six Pillars of Dog Traini
 ng Wisdom by Zoom.
CATEGORIES:Private Training
URL;VALUE=URI:https://abetterpet.com/mc-events/taro-the-p-r-rescue-mix-zoom
 -training/
METHOD:PUBLISH
END:VEVENT
END:VCALENDAR