BEGIN:VCALENDAR
VERSION:2.0
PRODID:spatie/icalendar-generator
DESCRIPTION:Events from A Better Pet
X-WR-CALDESC:Events from A Better Pet
REFRESH-INTERVAL;VALUE=DURATION:PT1440M
X-PUBLISHED-TTL:PT1440M
BEGIN:VTIMEZONE
TZID:America/New_York
BEGIN:DAYLIGHT
DTSTART:20220313T020000Z
TZOFFSETFROM:-0500
TZOFFSETTO:-0400
END:DAYLIGHT
BEGIN:STANDARD
DTSTART:20221106T020000Z
TZOFFSETFROM:-0400
TZOFFSETTO:-0500
END:STANDARD
BEGIN:DAYLIGHT
DTSTART:20230312T020000Z
TZOFFSETFROM:-0500
TZOFFSETTO:-0400
END:DAYLIGHT
END:VTIMEZONE
BEGIN:VTIMEZONE
TZID:UTC
BEGIN:STANDARD
DTSTART:20250728T084324Z
TZOFFSETFROM:+0000
TZOFFSETTO:+0000
END:STANDARD
END:VTIMEZONE
BEGIN:VEVENT
UID:876-839
DTSTAMP:20260424T084324Z
SUMMARY:Reiki Level 1 Training Part 1 (of 3)
LOCATION:
ORGANIZER;CN=Rachel Friedman:MAILTO:Rachel@abetterpet.com
DTSTART;TZID=America/New_York:20221016T130000
DTEND;TZID=America/New_York:20221016T150000
X-ALT-DESC;FMTTYPE=TEXT/HTML:In which Rachel begins to adds another level o
 f care for the dogs under her guidance and supervision with this first Rei
 ki session. Stay tuned. It's a process of many months to get through 3 lev
 els of Training\, 6 hours per level. 
CATEGORIES:Events
URL;VALUE=URI:https://abetterpet.com/mc-events/reiki-level-1-training-part-
 1-of-3/
METHOD:PUBLISH
END:VEVENT
END:VCALENDAR