BEGIN:VCALENDAR
VERSION:2.0
PRODID:spatie/icalendar-generator
DESCRIPTION:Events from A Better Pet
X-WR-CALDESC:Events from A Better Pet
REFRESH-INTERVAL;VALUE=DURATION:PT1440M
X-PUBLISHED-TTL:PT1440M
BEGIN:VTIMEZONE
TZID:America/New_York
BEGIN:DAYLIGHT
DTSTART:20220313T020000Z
TZOFFSETFROM:-0500
TZOFFSETTO:-0400
END:DAYLIGHT
BEGIN:STANDARD
DTSTART:20221106T020000Z
TZOFFSETFROM:-0400
TZOFFSETTO:-0500
END:STANDARD
BEGIN:DAYLIGHT
DTSTART:20230312T020000Z
TZOFFSETFROM:-0500
TZOFFSETTO:-0400
END:DAYLIGHT
END:VTIMEZONE
BEGIN:VTIMEZONE
TZID:UTC
BEGIN:STANDARD
DTSTART:20250728T114057Z
TZOFFSETFROM:+0000
TZOFFSETTO:+0000
END:STANDARD
END:VTIMEZONE
BEGIN:VEVENT
UID:875-838
DTSTAMP:20260424T114057Z
SUMMARY:Zoom dog/cat integration consult
LOCATION:
ORGANIZER;CN=Rachel Friedman:MAILTO:Rachel@abetterpet.com
DTSTART;TZID=America/New_York:20221014T140000
DTEND;TZID=America/New_York:20221014T144500
X-ALT-DESC;FMTTYPE=TEXT/HTML:In which we discuss ensuring safety of new kit
 ten with resident dog Daisy\, who sometimes gets a little excited.
CATEGORIES:Consult
URL;VALUE=URI:https://abetterpet.com/mc-events/zoom-dog-cat-integration-con
 sult/
METHOD:PUBLISH
END:VEVENT
END:VCALENDAR