BEGIN:VCALENDAR
VERSION:2.0
PRODID:spatie/icalendar-generator
DESCRIPTION:Events from A Better Pet
X-WR-CALDESC:Events from A Better Pet
REFRESH-INTERVAL;VALUE=DURATION:PT1440M
X-PUBLISHED-TTL:PT1440M
BEGIN:VTIMEZONE
TZID:America/New_York
BEGIN:DAYLIGHT
DTSTART:20220313T020000Z
TZOFFSETFROM:-0500
TZOFFSETTO:-0400
END:DAYLIGHT
BEGIN:STANDARD
DTSTART:20221106T020000Z
TZOFFSETFROM:-0400
TZOFFSETTO:-0500
END:STANDARD
END:VTIMEZONE
BEGIN:VTIMEZONE
TZID:UTC
BEGIN:STANDARD
DTSTART:20250728T125513Z
TZOFFSETFROM:+0000
TZOFFSETTO:+0000
END:STANDARD
END:VTIMEZONE
BEGIN:VEVENT
UID:803-771
DTSTAMP:20260424T125513Z
SUMMARY:DIP Tuesday
LOCATION:
ORGANIZER;CN=Rachel Friedman:MAILTO:Rachel@abetterpet.com
DTSTART;TZID=America/New_York:20220809T163000
DTEND;TZID=America/New_York:20220809T180000
X-ALT-DESC;FMTTYPE=TEXT/HTML:Weather permitting\, and it looks probable\, c
 ome to the ever growing census of the roster at A Better Pet to enjoy a su
 mmer afternoon drop in play. RSVP if coming.
CATEGORIES:DIP (Drop-In Play)
URL;VALUE=URI:https://abetterpet.com/mc-events/dip-tuesday-62/
METHOD:PUBLISH
END:VEVENT
END:VCALENDAR