BEGIN:VCALENDAR
VERSION:2.0
PRODID:spatie/icalendar-generator
DESCRIPTION:Events from A Better Pet
X-WR-CALDESC:Events from A Better Pet
REFRESH-INTERVAL;VALUE=DURATION:PT1440M
X-PUBLISHED-TTL:PT1440M
BEGIN:VTIMEZONE
TZID:America/New_York
BEGIN:STANDARD
DTSTART:20211107T020000Z
TZOFFSETFROM:-0400
TZOFFSETTO:-0500
END:STANDARD
BEGIN:DAYLIGHT
DTSTART:20220313T020000Z
TZOFFSETFROM:-0500
TZOFFSETTO:-0400
END:DAYLIGHT
BEGIN:STANDARD
DTSTART:20221106T020000Z
TZOFFSETFROM:-0400
TZOFFSETTO:-0500
END:STANDARD
END:VTIMEZONE
BEGIN:VTIMEZONE
TZID:UTC
BEGIN:STANDARD
DTSTART:20250729T024726Z
TZOFFSETFROM:+0000
TZOFFSETTO:+0000
END:STANDARD
END:VTIMEZONE
BEGIN:VEVENT
UID:709-686
DTSTAMP:20260425T024726Z
SUMMARY:Tito The Sheepadoodle Board and Train
LOCATION:
ORGANIZER;CN=Rachel Friedman:MAILTO:Rachel@abetterpet.com
DTSTART;TZID=America/New_York;VALUE=DATE:20220511
DTEND;TZID=America/New_York;VALUE=DATE:20220517
X-ALT-DESC;FMTTYPE=TEXT/HTML:In which adolescent Tito the Sheepadoodle come
 s for lessons in becoming a better pet while his peeps  go on a trip.
CATEGORIES:Board &amp; Train
URL;VALUE=URI:https://abetterpet.com/mc-events/tito-the-sheepadoodle-board-
 and-train/
METHOD:PUBLISH
END:VEVENT
END:VCALENDAR