BEGIN:VCALENDAR
VERSION:2.0
PRODID:spatie/icalendar-generator
DESCRIPTION:Events from A Better Pet
X-WR-CALDESC:Events from A Better Pet
REFRESH-INTERVAL;VALUE=DURATION:PT1440M
X-PUBLISHED-TTL:PT1440M
BEGIN:VTIMEZONE
TZID:America/New_York
BEGIN:DAYLIGHT
DTSTART:20210314T020000Z
TZOFFSETFROM:-0500
TZOFFSETTO:-0400
END:DAYLIGHT
BEGIN:STANDARD
DTSTART:20211107T020000Z
TZOFFSETFROM:-0400
TZOFFSETTO:-0500
END:STANDARD
BEGIN:DAYLIGHT
DTSTART:20220313T020000Z
TZOFFSETFROM:-0500
TZOFFSETTO:-0400
END:DAYLIGHT
END:VTIMEZONE
BEGIN:VTIMEZONE
TZID:UTC
BEGIN:STANDARD
DTSTART:20250729T011337Z
TZOFFSETFROM:+0000
TZOFFSETTO:+0000
END:STANDARD
END:VTIMEZONE
BEGIN:VEVENT
UID:691-668
DTSTAMP:20260425T011337Z
SUMMARY:Taiko The Mini Golden Doodle Training
LOCATION:
ORGANIZER;CN=Rachel Friedman:MAILTO:Rachel@abetterpet.com
DTSTART;TZID=America/New_York:20211029T130000
DTEND;TZID=America/New_York:20211029T153000
X-ALT-DESC;FMTTYPE=TEXT/HTML:In which we impart the foundation of The Six P
 illars of Dog Training Wisdom to begin the training of Taiko for all futur
 e endeavors.
CATEGORIES:Private Training
URL;VALUE=URI:https://abetterpet.com/mc-events/taiko-the-mini-golden-doodle
 -training/
METHOD:PUBLISH
END:VEVENT
END:VCALENDAR