BEGIN:VCALENDAR
VERSION:2.0
PRODID:spatie/icalendar-generator
DESCRIPTION:Events from A Better Pet
X-WR-CALDESC:Events from A Better Pet
REFRESH-INTERVAL;VALUE=DURATION:PT1440M
X-PUBLISHED-TTL:PT1440M
BEGIN:VTIMEZONE
TZID:America/New_York
BEGIN:STANDARD
DTSTART:20201101T020000Z
TZOFFSETFROM:-0400
TZOFFSETTO:-0500
END:STANDARD
BEGIN:DAYLIGHT
DTSTART:20210314T020000Z
TZOFFSETFROM:-0500
TZOFFSETTO:-0400
END:DAYLIGHT
BEGIN:STANDARD
DTSTART:20211107T020000Z
TZOFFSETFROM:-0400
TZOFFSETTO:-0500
END:STANDARD
END:VTIMEZONE
BEGIN:VTIMEZONE
TZID:UTC
BEGIN:STANDARD
DTSTART:20250729T160803Z
TZOFFSETFROM:+0000
TZOFFSETTO:+0000
END:STANDARD
END:VTIMEZONE
BEGIN:VEVENT
UID:589-573
DTSTAMP:20260425T160803Z
SUMMARY:Penny The Wheaton Poo Board and Train
LOCATION:
ORGANIZER;CN=Rachel Friedman:MAILTO:Rachel@abetterpet.com
DTSTART;TZID=America/New_York;VALUE=DATE:20210708
DTEND;TZID=America/New_York;VALUE=DATE:20210712
X-ALT-DESC;FMTTYPE=TEXT/HTML:In which Penny the Wheaton/Poodle mix comes fo
 r a 3 day board and train with the denizens of A Better Pet to help her be
 come ever better.
CATEGORIES:Private Training
URL;VALUE=URI:https://abetterpet.com/mc-events/penny-the-wheaton-poo-board-
 and-train/
METHOD:PUBLISH
END:VEVENT
END:VCALENDAR