BEGIN:VCALENDAR
VERSION:2.0
PRODID:spatie/icalendar-generator
DESCRIPTION:Events from A Better Pet
X-WR-CALDESC:Events from A Better Pet
REFRESH-INTERVAL;VALUE=DURATION:PT1440M
X-PUBLISHED-TTL:PT1440M
BEGIN:VTIMEZONE
TZID:America/New_York
BEGIN:STANDARD
DTSTART:20201101T020000Z
TZOFFSETFROM:-0400
TZOFFSETTO:-0500
END:STANDARD
BEGIN:DAYLIGHT
DTSTART:20210314T020000Z
TZOFFSETFROM:-0500
TZOFFSETTO:-0400
END:DAYLIGHT
BEGIN:STANDARD
DTSTART:20211107T020000Z
TZOFFSETFROM:-0400
TZOFFSETTO:-0500
END:STANDARD
END:VTIMEZONE
BEGIN:VTIMEZONE
TZID:UTC
BEGIN:STANDARD
DTSTART:20250729T185512Z
TZOFFSETFROM:+0000
TZOFFSETTO:+0000
END:STANDARD
END:VTIMEZONE
BEGIN:VEVENT
UID:584-561
DTSTAMP:20260425T185512Z
SUMMARY:Fig's First Public Access Outing! Van Aken District!
LOCATION:
ORGANIZER;CN=Rachel Friedman:MAILTO:Rachel@abetterpet.com
DTSTART;TZID=America/New_York:20210628T180000
DTEND;TZID=America/New_York:20210628T200000
X-ALT-DESC;FMTTYPE=TEXT/HTML:In which Team Fig (Nai'lah and her mom Sanetta
 ) and I head to an active summer evening outing with live music\, stores t
 o explore\, food to consider\, manners to conquer. Other teams invited to 
 \"shadow\" if interested. Please let me know! (rescheduled due to weather)
CATEGORIES:Private Training
URL;VALUE=URI:https://abetterpet.com/mc-events/figs-first-public-access-out
 ing-van-aken-district/
METHOD:PUBLISH
END:VEVENT
END:VCALENDAR