BEGIN:VCALENDAR
VERSION:2.0
PRODID:spatie/icalendar-generator
DESCRIPTION:Events from A Better Pet
X-WR-CALDESC:Events from A Better Pet
REFRESH-INTERVAL;VALUE=DURATION:PT1440M
X-PUBLISHED-TTL:PT1440M
BEGIN:VTIMEZONE
TZID:America/New_York
BEGIN:STANDARD
DTSTART:20201101T020000Z
TZOFFSETFROM:-0400
TZOFFSETTO:-0500
END:STANDARD
BEGIN:DAYLIGHT
DTSTART:20210314T020000Z
TZOFFSETFROM:-0500
TZOFFSETTO:-0400
END:DAYLIGHT
BEGIN:STANDARD
DTSTART:20211107T020000Z
TZOFFSETFROM:-0400
TZOFFSETTO:-0500
END:STANDARD
END:VTIMEZONE
BEGIN:VTIMEZONE
TZID:UTC
BEGIN:STANDARD
DTSTART:20250729T191848Z
TZOFFSETFROM:+0000
TZOFFSETTO:+0000
END:STANDARD
END:VTIMEZONE
BEGIN:VEVENT
UID:573-559
DTSTAMP:20260425T191848Z
SUMMARY:Priscilla and Savannah Zoom Dog Training
LOCATION:
ORGANIZER;CN=Rachel Friedman:MAILTO:Rachel@abetterpet.com
DTSTART;TZID=America/New_York:20210622T130000
DTEND;TZID=America/New_York:20210622T153000
X-ALT-DESC;FMTTYPE=TEXT/HTML:Zoom training to help Priscilla begin to learn
  the foundation to teach Savannah how to be a better pet. This adult rescu
 e during Covid has some challenges that need a little direction and suppor
 t.
CATEGORIES:Private Training
URL;VALUE=URI:https://abetterpet.com/mc-events/priscilla-and-savannah-zoom-
 dog-training/
METHOD:PUBLISH
END:VEVENT
END:VCALENDAR