BEGIN:VCALENDAR
VERSION:2.0
PRODID:spatie/icalendar-generator
DESCRIPTION:Events from A Better Pet
X-WR-CALDESC:Events from A Better Pet
REFRESH-INTERVAL;VALUE=DURATION:PT1440M
X-PUBLISHED-TTL:PT1440M
BEGIN:VTIMEZONE
TZID:America/New_York
BEGIN:DAYLIGHT
DTSTART:20240310T020000Z
TZOFFSETFROM:-0500
TZOFFSETTO:-0400
END:DAYLIGHT
BEGIN:STANDARD
DTSTART:20241103T020000Z
TZOFFSETFROM:-0400
TZOFFSETTO:-0500
END:STANDARD
BEGIN:DAYLIGHT
DTSTART:20250309T020000Z
TZOFFSETFROM:-0500
TZOFFSETTO:-0400
END:DAYLIGHT
END:VTIMEZONE
BEGIN:VTIMEZONE
TZID:UTC
BEGIN:STANDARD
DTSTART:20250727T104225Z
TZOFFSETFROM:+0000
TZOFFSETTO:+0000
END:STANDARD
END:VTIMEZONE
BEGIN:VEVENT
UID:1387-1304
DTSTAMP:20260423T104225Z
SUMMARY:Truffle 3 Day Sleepover
LOCATION:
ORGANIZER;CN=Rachel Friedman:MAILTO:Rachel@abetterpet.com
DTSTART;TZID=America/New_York:20241016T150000
DTEND;TZID=America/New_York:20241019T140000
X-ALT-DESC;FMTTYPE=TEXT/HTML:In which Truffle has her first days of partner
 ship when she goes off to make first introductions on her three day sleepo
 ver with her new partner. Stay tuned for updates!
CATEGORIES:Events
URL;VALUE=URI:https://abetterpet.com/mc-events/truffle-3-day-sleepover/
METHOD:PUBLISH
END:VEVENT
END:VCALENDAR