BEGIN:VCALENDAR
VERSION:2.0
PRODID:spatie/icalendar-generator
DESCRIPTION:Events from A Better Pet
X-WR-CALDESC:Events from A Better Pet
REFRESH-INTERVAL;VALUE=DURATION:PT1440M
X-PUBLISHED-TTL:PT1440M
BEGIN:VTIMEZONE
TZID:America/New_York
BEGIN:STANDARD
DTSTART:20231105T020000Z
TZOFFSETFROM:-0400
TZOFFSETTO:-0500
END:STANDARD
BEGIN:DAYLIGHT
DTSTART:20240310T020000Z
TZOFFSETFROM:-0500
TZOFFSETTO:-0400
END:DAYLIGHT
BEGIN:STANDARD
DTSTART:20241103T020000Z
TZOFFSETFROM:-0400
TZOFFSETTO:-0500
END:STANDARD
END:VTIMEZONE
BEGIN:VTIMEZONE
TZID:UTC
BEGIN:STANDARD
DTSTART:20250727T085707Z
TZOFFSETFROM:+0000
TZOFFSETTO:+0000
END:STANDARD
END:VTIMEZONE
BEGIN:VEVENT
UID:1298-1227
DTSTAMP:20260423T085707Z
SUMMARY:Pinto Puppies Reunion Private Party Solstice Jam
LOCATION:
ORGANIZER;CN=Rachel Friedman:MAILTO:Rachel@abetterpet.com
DTSTART;TZID=America/New_York:20240621T163000
DTEND;TZID=America/New_York:20240621T183000
X-ALT-DESC;FMTTYPE=TEXT/HTML:In which Pinto's puppies from 8/2 and their pe
 eps come and visit and meet Pinto's Puppies from 5/19 and we celebrate mil
 estones all the way around. Maybe we'll eat and drink too!
CATEGORIES:Private Training
URL;VALUE=URI:https://abetterpet.com/mc-events/pinto-puppies-reunion-privat
 e-party-solstice-jam/
METHOD:PUBLISH
END:VEVENT
END:VCALENDAR