BEGIN:VCALENDAR
VERSION:2.0
PRODID:spatie/icalendar-generator
DESCRIPTION:Events from A Better Pet
X-WR-CALDESC:Events from A Better Pet
REFRESH-INTERVAL;VALUE=DURATION:PT1440M
X-PUBLISHED-TTL:PT1440M
BEGIN:VTIMEZONE
TZID:America/New_York
BEGIN:STANDARD
DTSTART:20231105T020000Z
TZOFFSETFROM:-0400
TZOFFSETTO:-0500
END:STANDARD
BEGIN:DAYLIGHT
DTSTART:20240310T020000Z
TZOFFSETFROM:-0500
TZOFFSETTO:-0400
END:DAYLIGHT
END:VTIMEZONE
BEGIN:VTIMEZONE
TZID:UTC
BEGIN:STANDARD
DTSTART:20250727T194702Z
TZOFFSETFROM:+0000
TZOFFSETTO:+0000
END:STANDARD
END:VTIMEZONE
BEGIN:VEVENT
UID:1210-1148
DTSTAMP:20260423T194702Z
SUMMARY:DIP Saturday
LOCATION:
ORGANIZER;CN=Rachel Friedman:MAILTO:Rachel@abetterpet.com
DTSTART;TZID=America/New_York:20240210T154500
DTEND;TZID=America/New_York:20240210T170000
X-ALT-DESC;FMTTYPE=TEXT/HTML:Still mild and hopefully limited to no mud. RS
 VP if coming (before the cold and snow returns!).
CATEGORIES:DIP (Drop-In Play)
URL;VALUE=URI:https://abetterpet.com/mc-events/dip-saturday-98/
METHOD:PUBLISH
END:VEVENT
END:VCALENDAR