BEGIN:VCALENDAR
VERSION:2.0
PRODID:spatie/icalendar-generator
DESCRIPTION:Events from A Better Pet
X-WR-CALDESC:Events from A Better Pet
REFRESH-INTERVAL;VALUE=DURATION:PT1440M
X-PUBLISHED-TTL:PT1440M
BEGIN:VTIMEZONE
TZID:America/New_York
BEGIN:STANDARD
DTSTART:20231105T020000Z
TZOFFSETFROM:-0400
TZOFFSETTO:-0500
END:STANDARD
BEGIN:DAYLIGHT
DTSTART:20240310T020000Z
TZOFFSETFROM:-0500
TZOFFSETTO:-0400
END:DAYLIGHT
END:VTIMEZONE
BEGIN:VTIMEZONE
TZID:UTC
BEGIN:STANDARD
DTSTART:20250727T133613Z
TZOFFSETFROM:+0000
TZOFFSETTO:+0000
END:STANDARD
END:VTIMEZONE
BEGIN:VEVENT
UID:1177-1118
DTSTAMP:20260423T133613Z
SUMMARY:Brioche 3 Day Sleepover
LOCATION:
ORGANIZER;CN=Rachel Friedman:MAILTO:Rachel@abetterpet.com
DTSTART;TZID=America/New_York;VALUE=DATE:20231208
DTEND;TZID=America/New_York;VALUE=DATE:20231212
X-ALT-DESC;FMTTYPE=TEXT/HTML:In which Brioche goes to her first sleepover w
 ith her partner Madalyn. She's all cleaned up and ready to start the next 
 phase on the path of developing the foundation\, skills and experience of 
 a service dog for someone with special needs. Send her good vibes for a mo
 st excellent experience!
CATEGORIES:Events
URL;VALUE=URI:https://abetterpet.com/mc-events/brioche-3-day-sleepover/
METHOD:PUBLISH
END:VEVENT
END:VCALENDAR